BEGIN:VCALENDAR
VERSION:2.0
PRODID:-//Folk.nu! - ECPv5.14.0.1//NONSGML v1.0//EN
CALSCALE:GREGORIAN
METHOD:PUBLISH
X-WR-CALNAME:Folk.nu!
X-ORIGINAL-URL:https://folk.nu
X-WR-CALDESC:Händelser för Folk.nu!
REFRESH-INTERVAL;VALUE=DURATION:PT1H
X-Robots-Tag:noindex
X-PUBLISHED-TTL:PT1H
BEGIN:VTIMEZONE
TZID:Europe/Stockholm
BEGIN:DAYLIGHT
TZOFFSETFROM:+0100
TZOFFSETTO:+0200
TZNAME:CEST
DTSTART:20220327T010000
END:DAYLIGHT
BEGIN:STANDARD
TZOFFSETFROM:+0200
TZOFFSETTO:+0100
TZNAME:CET
DTSTART:20221030T010000
END:STANDARD
END:VTIMEZONE
BEGIN:VEVENT
DTSTART;TZID=Europe/Stockholm:20220612T210000
DTEND;TZID=Europe/Stockholm:20220612T214500
DTSTAMP:20260421T133257
CREATED:20220525T114001Z
LAST-MODIFIED:20220525T114001Z
UID:3092-1655067600-1655070300@folk.nu
SUMMARY:Vallmusik vid Bolletjärn
DESCRIPTION:Välkommen till en unik musik och naturupplevelse när den årliga konserten med vallmusik vid Bolletjärn i Bollnäs går av stapeln. Totalt tio musiker bjuder på lockrop\, kulning och hornblåsning kring tjärnen i sköna försommarkvällen. Publiken sprider ut sig på stubbar och filtar och njuter av musiken som ekar runt tjärnen när melodier och klanger från äldre tiders fäbodbruk ekar i skogen. Räkna med ca en halvtimmes promenad på trärampen från foten av Stora Bolleberget upp till tjärnen. Kom i tid! Ta gärna med fikakorg. Fri entré.
URL:https://folk.nu/evenemang/vallmusik-vid-bolletjarn/
LOCATION:Bolletjärn\, Stora Bollebergets naturreservat\, Bollnäs\, 82100
ATTACH;FMTTYPE=image/jpeg:https://media2.folk.nu/2022/05/bolletjarn.jpg
END:VEVENT
END:VCALENDAR