BEGIN:VCALENDAR
VERSION:2.0
PRODID:-//Folk.nu! - ECPv5.14.0.1//NONSGML v1.0//EN
CALSCALE:GREGORIAN
METHOD:PUBLISH
X-WR-CALNAME:Folk.nu!
X-ORIGINAL-URL:https://folk.nu
X-WR-CALDESC:Händelser för Folk.nu!
REFRESH-INTERVAL;VALUE=DURATION:PT1H
X-Robots-Tag:noindex
X-PUBLISHED-TTL:PT1H
BEGIN:VTIMEZONE
TZID:Europe/Stockholm
BEGIN:DAYLIGHT
TZOFFSETFROM:+0100
TZOFFSETTO:+0200
TZNAME:CEST
DTSTART:20220327T010000
END:DAYLIGHT
BEGIN:STANDARD
TZOFFSETFROM:+0200
TZOFFSETTO:+0100
TZNAME:CET
DTSTART:20221030T010000
END:STANDARD
END:VTIMEZONE
BEGIN:VEVENT
DTSTART;VALUE=DATE:20220806
DTEND;VALUE=DATE:20220807
DTSTAMP:20260421T133335
CREATED:20220520T083807Z
LAST-MODIFIED:20220616T075447Z
UID:2932-1659744000-1659830399@folk.nu
SUMMARY:Uddevalla Folkmusikfestival
DESCRIPTION:Låtkurser\, barnkurser\, folkmusikkonserter från olika folkliga traditioner och dans – en fulländad folkmusikdag med något för alla! \nKl. 10-13 Kurser: \n\nLåtkurs med riksspelman med Zornmärket i guld Alf Olsson\, köp biljett här: https://www.nortic.se/dagny/event/39614\nKulnings- och trallkurs med Marika Appelholm\nNäverlurskurs med Britt-Marie Jonsson.\n\nKl. 11 FAMILJEKONSERT Sabina Henriksson \nKl. 12 WORKSHOP för barnfamiljer: Bygg ditt eget instrument \nKl. 13 KONSERT Emilia Amper & Anna Petrini \nKl. 14 ALLSPEL och uppspel från kurserna \nKl. 16 KONSERT Västra låtverkstan \nKl. 17 WORKSHOP med Västra Låtverkstan för ungdomar \nKl. 18 KURS i folklig dans \nKl. 19 DANS till spellista \nKl. 19.30 KONSERT Spöket i köket \nKl. 21 Dansafton! \n  \n  \n 
URL:https://folk.nu/evenemang/uddevalla-folkmusikfestival/
LOCATION:Bohusläns Museum\, Museigatan 1\, Uddevalla\, 45150
ATTACH;FMTTYPE=image/jpeg:https://media2.folk.nu/2022/05/Uddevalla-Folkmusikfestival.jpg
ORGANIZER;CN="Kulturens%20Bildningsverksamhet":MAILTO:info@kulturens.se
END:VEVENT
END:VCALENDAR