BEGIN:VCALENDAR
VERSION:2.0
PRODID:-//Folk.nu! - ECPv5.14.0.1//NONSGML v1.0//EN
CALSCALE:GREGORIAN
METHOD:PUBLISH
X-WR-CALNAME:Folk.nu!
X-ORIGINAL-URL:https://folk.nu
X-WR-CALDESC:Händelser för Folk.nu!
REFRESH-INTERVAL;VALUE=DURATION:PT1H
X-Robots-Tag:noindex
X-PUBLISHED-TTL:PT1H
BEGIN:VTIMEZONE
TZID:Europe/Stockholm
BEGIN:DAYLIGHT
TZOFFSETFROM:+0100
TZOFFSETTO:+0200
TZNAME:CEST
DTSTART:20210328T010000
END:DAYLIGHT
BEGIN:STANDARD
TZOFFSETFROM:+0200
TZOFFSETTO:+0100
TZNAME:CET
DTSTART:20211031T010000
END:STANDARD
BEGIN:DAYLIGHT
TZOFFSETFROM:+0100
TZOFFSETTO:+0200
TZNAME:CEST
DTSTART:20220327T010000
END:DAYLIGHT
BEGIN:STANDARD
TZOFFSETFROM:+0200
TZOFFSETTO:+0100
TZNAME:CET
DTSTART:20221030T010000
END:STANDARD
BEGIN:DAYLIGHT
TZOFFSETFROM:+0100
TZOFFSETTO:+0200
TZNAME:CEST
DTSTART:20230326T010000
END:DAYLIGHT
BEGIN:STANDARD
TZOFFSETFROM:+0200
TZOFFSETTO:+0100
TZNAME:CET
DTSTART:20231029T010000
END:STANDARD
BEGIN:DAYLIGHT
TZOFFSETFROM:+0100
TZOFFSETTO:+0200
TZNAME:CEST
DTSTART:20240331T010000
END:DAYLIGHT
BEGIN:STANDARD
TZOFFSETFROM:+0200
TZOFFSETTO:+0100
TZNAME:CET
DTSTART:20241027T010000
END:STANDARD
END:VTIMEZONE
BEGIN:VEVENT
DTSTART;TZID=Europe/Stockholm:20211211T190000
DTEND;TZID=Europe/Stockholm:20211211T210000
DTSTAMP:20260420T123247
CREATED:20211119T092510Z
LAST-MODIFIED:20211119T092510Z
UID:195-1639249200-1639256400@folk.nu
SUMMARY:Louisa Lyne & di Yiddishe Kapelye
DESCRIPTION:Sveriges egen jiddischdrottning\, Louisa Lyne\, och hennes band ”di Yiddishe Kapelye” firar 10 år och bjuder in till konsert! \nMycket har hänt sedan Louisa Lyne & di Yiddishe Kapelye släppte sitt första album ”Debyut” under 2012\, men genomgående är den varma och känslosamma musikaliska atmosfär som genom åren fängslat publik världen över. Louisas karismatiska sångstil skapar med hjälp av de skickliga musikerna (dragspel\, violin\, cello\, kontrabas\, gitarr och piano) ett unikt konstnärligt uttryck fullt av variation\, spänst\, dynamik och goda musikaliska överraskningar. \nGruppens andra albumet ”A Farblondzhete Blondike” släpptes 2015\, och nu sist när det tredje albumet ”Lust” kom ut under hösten 2019\, har musiken utvecklats ytterligare och blivit både mer banbrytande och omfattande. Gruppen rör sig med säkerhet mellan traditionell klezmer\, modern pop och världsmusik. Med elektroniska beats\, latinska rytmer och inslag av konstmusik och folksång arbetar de med jiddisch i ett helt nytt sammanhang\, som samtidigt förefaller helt självklart. \nLouisa Lyne är född i Härnösand och har genom ett brinnande intresse\, studier och lust\, trots att hon inte vuxit upp med judiska traditioner\, tillägnat sig språket och det judiska kulturarvet\, gjort det till sitt och funnit sin alldeles egna konstnärliga röst i dess mitt. \nGruppen har rönt stora framgångar både för sina liveframträdanden och album\, nu senast för deras efterlängtade tredje album som mottagit lysande recensioner både i Sverige och runt om i Europa. Under 2019 vann Louisa tävlingen ”Der Yiddisher Idol” i Mexico City och genom SVTs programserie ”Folkets musik” blev gruppen hyllad när deras version av The Arks ”It Takes A Fool To Remain Sane” (S’nemt A Nar”) mottogs med öppna armar av både gammal och ny publik. \nOBS! Samtliga evenemang anpassas efter rådande restriktioner.
URL:https://folk.nu/evenemang/louisa-lyne-di-yiddishe-kapelye/
LOCATION:Barnens Scen\, Falsterbogatan 17\, Malmö\, 21436
ATTACH;FMTTYPE=image/jpeg:https://media2.folk.nu/2021/11/LL-cover-jpg-photo_Sara-Ljunggren-1-scaled.jpeg
ORGANIZER;CN="Malm%C3%B6%20Folk":MAILTO:info@malmofolk.se
END:VEVENT
BEGIN:VEVENT
DTSTART;TZID=Europe/Stockholm:20220219T190000
DTEND;TZID=Europe/Stockholm:20220219T235500
DTSTAMP:20260420T123247
CREATED:20220130T105024Z
LAST-MODIFIED:20220204T002439Z
UID:604-1645297200-1645314900@folk.nu
SUMMARY:Gangspil trio
DESCRIPTION:Gangspil trio är Kristian Bugge (fiol & sång)\, Sonnich Lydom (munspel\, 1- och 2-radigt durspel & sång) och Malene Beck (piano & indisk harmonium). \nEn konsert med dessa tre livliga musikanter är en underhållande och varierad resa genom den danska folkmusiken\, med gamla dansmelodier från landets alla hörn. Vi besöker flera danska öar som Læsø\, Fanø\, Lolland och Mors samt områdena kring Thy och Köpenhamn med mera. Förvänta dig allt från vilda polkor och jigs till lyriska valser\, livliga reels och glada hopsa-låtar. Det blir en oförglömlig resa kryddad med humor och berättelser från många års turnerande. Med utgångspunkt i ett mångårigt arbete med den danska folkmusiken\, genom samspel med de gamla traditionsbärarna och genom fynd i Danmarks rika skatt av gamla spelmansböcker tar musiken med oss till en helt ny plats. \nTill dans spelar Gangspil trio upp till äkta Sønderho-bal. Det vill säga dansk polskedans i tvåtakt\, så som den har dansats i levande tradition till underbara melodier i flera hundra år i byn Sønderho på den lilla sydvästdanska ön Fanø. Gangspil trio är specialister i genren Sønderhoning och en oförglömlig dansupplevelse garanteras. \nGangspil trio består tre av Danmarks absolut namnkunnigaste folkmusiker. Gangspil har som duo fått priser på Danish Music Awards och har turnerat flitigt i Europa och USA\, där de har beskrivits såhär: \n”Gangspil – Just the best f… Danish music you’ll ever hear in your lifetime”.\n(Peter McCracken\, Festival of American Fiddle Tunes\, Port Townsend\, WA) \nMER INFO\n19.00-19.45 Crash course i dans\,20.00 Konsert\,21.00-00.00 Spel till dans\, jam och fika\,Entré: 140kr / 100kr medlem/ 70 kr student\, arbetslös\, över bron (och medlem)\,Inget förköp. Swish eller kontant i dörren\, vi tar ej kort\,OBS! Rådande restriktioner med hänsyn till spridning av COVID-19 kan komma att påverka evenemanget \nVideor:\nI Skymningen – vals\n3 Sønderhoninger \nSkiva:\nGangspil – extreme luxury folk \nObs! Evenemanget anpassas efter rådande restriktioner pga. Covid-19. \n►MALMÖ FOLK ÄR en ideell folkmusikförening som genomför konserter\, danskvällar och kurser med stöd av Statens kulturråd\, Malmö stad och Kulturens bildningsförbund.
URL:https://folk.nu/evenemang/gangspil-trio/
LOCATION:Barnens Scen\, Falsterbogatan 17\, Malmö\, 21436
ATTACH;FMTTYPE=image/jpeg:https://media2.folk.nu/2022/01/Gangspill.jpeg
ORGANIZER;CN="Malm%C3%B6%20Folk":MAILTO:info@malmofolk.se
END:VEVENT
BEGIN:VEVENT
DTSTART;TZID=Europe/Stockholm:20220507T193000
DTEND;TZID=Europe/Stockholm:20220507T233000
DTSTAMP:20260420T123247
CREATED:20220503T093627Z
LAST-MODIFIED:20220503T093627Z
UID:2522-1651951800-1651966200@folk.nu
SUMMARY:KLUBB BAIRES presenterar: Malmö Dragspelsensemble & Mazetti Bellows.
DESCRIPTION:KLUBB BAIRES presenterar:\nMalmö Dragspelsensemble & Mazetti Bellows.\nKonsert\nLördagen den 7 maj kl. 20.00 på Barnens Scen i Malmö Folkets Park.\nEn kväll där både Malmö Dragspelsensemble & Mazetti Bellows under ledningen av Magnus Jonsson presenterar ett program där tangon är den röda tråden.\nMalmö Dragspelsensemble består av 7 dragspelare samt klarinett och kompgrupp. De spelar underhållningsmusik arrangerad för dragspelsensemble. Mazetti Bellows är Malmö Kulturskolas accordeonkvintett. Till konserten är ensemblen även utökad med ungdomar som tidigare gått på skolan till en ungdomsensemble.\nTillsammans kommer de att bjuda på musik som är arrangerad för såväl stor ensemble som för solo/duo/trio. Naturligtvis är tango den röda tråden.\n\n——————————————————- \nTid: 19.30-23.30\nInsläpp kl. 19.30\nKonserten startar kl. 20.00 och är i två delar.\nPlats: Barnens Scen\, Folkets Park i Malmö.\nBiljettpris för konserten: 150 kr.\nBiljetter betalas kontant i dörren eller via Swish.\nReservera biljett via email till infotangarte@gmail.com                                                                                                                                                        Under kvällen kommer det att finnas kaffe\, te\, vatten\, läsk och alfajores (argentinska kakor/bakverk) från Alfajores Dulcita till försäljning. All betalning via swish eller kontant (tacksamma för så jämna pengar som möjligt). Vi ser fram emot en fin kväll! Välkomna! \nBarnens scen är en unik plats för teater\, musik\, dans och blir arenan för höstens första konsert. En plats med varm och trevlig tango-atmosfär välbekant för alla tangoentusiaster i Malmö. \nVälkomna till Klubb Baires\, tango över alla gränser! \nKlubb Baires är en serie konserter med tangon som röd tråd. I ett unikt musikaliskt spektrum möter vi ett rikt och gränsöverskridande innehåll där mångfald och jämlikhet står i fokus. Olika typer av artister och ensembler – från kvinnliga DJ’s till solopianister och stråkkvartetter – presenterar olika aspekter på tangon som genre. \nKvällen arrangeras med stöd från Malmö Stad\, Kulturrådet och Kulturens Bildningsförbund.
URL:https://folk.nu/evenemang/klubb-baires-presenterar-malmo-dragspelsensemble-mazetti-bellows/
LOCATION:Barnens Scen\, Falsterbogatan 17\, Malmö\, 21436
ATTACH;FMTTYPE=image/jpeg:https://media2.folk.nu/2022/05/klubb-baires-dragspel-7maj2022.jpeg
ORGANIZER;CN="Klubb%20Baires":MAILTO:juanjo@baires.se
END:VEVENT
BEGIN:VEVENT
DTSTART;TZID=Europe/Stockholm:20230902T190000
DTEND;TZID=Europe/Stockholm:20231209T233000
DTSTAMP:20260420T123247
CREATED:20230821T065621Z
LAST-MODIFIED:20230821T065621Z
UID:5338-1693681200-1702164600@folk.nu
SUMMARY:KLUBB BAIRES HÖSTENS PROGRAM 2023.
DESCRIPTION:KLUBB BAIRES HÖSTENS PROGRAM 2023 \nLördag 2:a september – lördag 9:e december 2023. \nHöstens Klubb Baires konsertprogram finns nu i sin helhet på vår hemsida. \nHär finns olika slags kvällar där några är konserter bara för en sittande publik\, andra både konsert och spel till dans och någon av våra kvällar är rent av Kom-och-Festa-tangokväll där en orkester spelar till dans. \nMer info om varje kväll i separata Facebook-event. \nViva el Tango! \n– – – – – \nJuan Esteban Cuacci Duo : Konsert & Milonga. \nJuan Esteban Cuacci\, piano & Maribel Martinez\, sång. Gästmusiker: Hedda Heiskanen\, fiol & Juanjo Passo\, bandoneon. \nTango-DJ Graciela Loscalzo. Plats: Barnens Scen. Lördag 2 september 19.30-23.30. \nMarseille-Stockholm Trio :: Konsert & Milonga! \nOmar ”El Aleman” Fernandez\, sång\, Fernando Maguna\, bandoneon och Diego Trosman\, gitarr. \nTango-DJ Marcela Troncoso. Plats: Barnens Scen. Fredag 29 september 19.30-00.00. \nGrand Milonga på Malmö Folk Festival :: Milonga. \nCuarteto Bando (Tyskland) + Dansshow med Marcela Troncoso & Andres ”Tanguito” Cejas + Tango-DJ Anita Doby. Plats: Rehab Kultur. Lördag 21 oktober 19.00-00.00. \nKiev Tango Orchestra :: Konsert. Tangokvartett från Ukraina! \nTango-DJ Marcela Troncoso. Plats: Rehab Kultur. Fredag 24 november 19.00-23.00. \nJakob Gerhardsson Trio :: Konsert. Tango möter Jazz. \nJakob Gerhardsson\, kontrabas\, Karin Pilhage\, elgitarr och Adam Sass\, trumpet \nPlats: MittMöllan. – Fri Entré. Lördag 2 december 13.00-16.00. \nBeltango Duo :: Konsert & Milonga. Tangoduo från Serbien. \nAleksandar Nikolic\, bandoneon & Ivana Nikolic\, piano. \nTango-DJ Marcela Troncoso. Plats: Barnens Scen. Lördag 9 december 19.00-00.00. \n– – – – – \nPå Klubb Baires kvällar kan biljetter betalas kontant i dörren eller via Swish förutom konserterna med fri entré. \nReservera biljett via email till infotangarte@gmail.com \nUnder konsert- och milongakvällarna kommer det att finnas kaffe\, te\, vatten\, läsk och alfajores (argentinska kakor/bakverk) från Alfajores Dulcita till försäljning. All betalning via swish eller kontant (tacksamma för så jämna pengar som möjligt). \nKlubb Baires är en serie konserter med tangon som röd tråd. I ett unikt musikaliskt spektrum möter vi ett rikt och gränsöverskridande innehåll där mångfald och jämlikhet står i fokus. Olika typer av artister och ensembler – från kvinnliga DJ’s till solopianister och stråkkvartetter – presenterar olika aspekter på tangon som genre. \nKvällarna arrangeras av TangoFolk Malmö med stöd från: Malmö Stad\, Kulturrådet\, Region Skåne och Studieförbundet Bilda i samarbete med Malmö Folk Festival\, Dulcita\, MittMöllan och Camarin. \nVälkomna!
URL:https://folk.nu/evenemang/klubb-baires-hostens-program-2023/
LOCATION:Barnens Scen\, Falsterbogatan 17\, Malmö\, 21436
ATTACH;FMTTYPE=image/jpeg:https://media2.folk.nu/2023/08/6kbaires.jpeg
ORGANIZER;CN="Klubb%20Baires":MAILTO:juanjo@baires.se
END:VEVENT
BEGIN:VEVENT
DTSTART;TZID=Europe/Stockholm:20240323T190000
DTEND;TZID=Europe/Stockholm:20240324T000000
DTSTAMP:20260420T123247
CREATED:20240306T114352Z
LAST-MODIFIED:20240306T114352Z
UID:6232-1711220400-1711238400@folk.nu
SUMMARY:KLUBB BAIRES presenterar: Cesar Angeleri Trio + Orquesta Tangarte. Konsert & Milonga!
DESCRIPTION:KLUBB BAIRES presenterar:\nCesar Angeleri Trio + Orquesta Tangarte :: Konsert & Milonga!\nKonsert & Milonga. \nCesar Angeleri Trio med Cesar Angeleri på gitarr\, pianisten Diego Aubía och Nicolas Peyrat på altfiol.\nOrquesta Tangarte med Juanjo Passo på bandoneon\, Hedda Heiskanen violin\, Irina Binder violin\, Per Tidstrand på violoncello \, Garik Binder på piano och Jakob Gerhardsson på kontrabas.\nTango-DJ: Marcela Troncoso ( ARG/SWE) \nLördag 23 mars 2024\, 19.00-24.00.                                                                                                                                                                                    Dörrarna öppnar 19.00\, konsert på scen 19.45\, därefter milonga.\nPlats: Barnens Scen\, Folkets Park\, Falsterbogatan 17\, Malmö.\nBiljettpris för konsert & milonga: 180 kr (medlem Camarin/ungdom/student/pensionär 150 kr)\nBiljettpris för bara milonga: 150 kr (medlem Camarin/ungdom/student/pensionär 120 kr)\nBarn under 15 år fri entré.\nBiljetter betalas med kort\, kontant i dörren eller via Swish i entrén.\nReservera biljett via email till infotangarte@gmail.com\n– – – – –\nUnder konsert- och milongakvällarna kommer det att finnas kaffe\, te\, vatten\, läsk\, empanadas och alfajores (argentinska kakor/bakverk) från Alfajores Dulcita till försäljning.\nAll betalning via swish\, kort eller kontant (tacksamma för så jämna pengar som möjligt).\n– – – – – \nVårens andra av tre Klubb Baires kvällar innehåller\nkonsert och milonga med Cesar Angeleri Trio och Orquesta Tangarte och kvällens Tango-DJ Marcela Troncoso.\nFörst en konsertdel med en unik trio under ledningen av gitarristen Cesar Angeleri\, med pianisten Diego Aubía och Nicolas Peyrat på altfiol. De spelar en bred repertoar med bådeklassiker och egna verk.\nEfter konserten sätter vi igång Milongan! Orquesta Tangarte spelar ett set till dans med överraskning! Vi börjar redan nu fira guppens 25-årsjubileum!\nMissa inte detta och förboka gärna din biljett! \nViva el Tango! \nVälkomna!\n– – – – –\nOm Cesar Angeleri\nVirtuos argentinsk musiker\, gitarrist och kompositör.\nFödd i staden Buenos Aires\, har hans omfattande karriär inom den argentinska folkmusiken och tangon gjort det möjligt för honom att presentera både på den nationella såsom internationella scener.\nTack vare hans familjehistoria och professionella utbildning får han en djup kunskap inom den argentinska folkloretraditionen/folkmusik traditionen. Detta möjligör för honom att arbeta med artister som Ariel Ramírez\, Eduardo Lagos\, Jaime Torres och Eduardo Falú.\nInom tangon uppträder han med artister som Julia Zenko\, Guillermo Fernández\, José Angel Trelles\, Horacio Ferrer\, Rubén Juarez\, Raúl Lavié\, María Graña\, Atilio Stampone\, Oscar Cardozo Ocampo\, Walter Ríos\, José Colángelo\, Leopoldo \, Antonio Agri och Guillermo Fernández.\nUnder tjugofem års internationell karriär representerar han tango i Europa\, Asien och Amerika både som solist och i andra grupper som duo med bandoneonisterna Daniel Binelli och Pablo Mainetti\, pianisterna Linda Lee\, Lilian Barreto\, Horacio Lavandera\, Gustavo Beytelmann\, cellisten Germán Prentky och i trio tillsammans med Cristian Zárate på piano och Mariano Rey på klarinett.\nÄven som solist framträder han både med Camerata Bariloche och på Piazzolla Symphonic Concert tillsammans med Mto. Juan José Mosalini på Teatro Colon i Buenos Aires.\nHan är både arrangör och gitarrist för den berömda Quinteto Ventarron (gitarr kvintett)\nCesar Angeleri undervisar även i gitarr på Manuel de Falla-konservatoriet i staden Buenos Aires.\nHan inleder i år med sin turné genom Frankrike och Schweiz samt Sverige och presenterar musiken från hans senaste album\, Punto de departure\, i ett nytt instrumentsättning med pianisten Diego Aubía och Nicolas Peyrat på altfiol.\n​\n– – – – –\nKlubb Baires är en serie konserter med tangon som röd tråd. I ett unikt musikaliskt spektrum möter vi ett rikt och gränsöverskridande innehåll där mångfald och jämlikhet står i fokus. Olika typer av artister och ensembler – från kvinnliga DJ’s till solopianister och stråkkvartetter – presenterar olika aspekter på tangon som genre. \nKvällarna arrangeras av TangoFolk Malmö med stöd från Kulturrådet och Studieförbundet Bilda i samarbete Dulcita. \nVälkomna!
URL:https://folk.nu/evenemang/klubb-baires-presenterar-cesar-angeleri-trio-orquesta-tangarte-konsert-milonga/
LOCATION:Barnens Scen\, Falsterbogatan 17\, Malmö\, 21436
ATTACH;FMTTYPE=image/jpeg:https://media2.folk.nu/2024/03/tango-cesatrio-tangarte.jpeg
ORGANIZER;CN="Klubb%20Baires":MAILTO:juanjo@baires.se
END:VEVENT
END:VCALENDAR